BEGIN:VCALENDAR
VERSION:2.0
PRODID:UnionActive
URL:http://teamsters305.com/?zone=/unionactive/calendar.cfm&usecalsection=main
NAME:www.teamsters305.com main
X-WR-CALNAME:www.teamsters305.com main
DESCRIPTION:www.teamsters305.com main
X-WR-CALDESC:www.teamsters305.com main
REFRESH-INTERVAL;VALUE=DURATION:PT12H
X-PUBLISHED-TTL:PT12H
CALSCALE:GREGORIAN
METHOD:PUBLISH
BEGIN:VEVENT
UID:12699345@teamsters305.com
SUMMARY:General Membership Meeting 
DESCRIPTION:Contact:  \nLink for more information: http://teamsters305.com/index.cfm?zone=/unionactive/view_calendar.cfm&calendarID=12699345&thisdate=03/20/2024&useCalSection=main
LOCATION:Teamsters Local Union No. 305
1870 NE 162nd Avenue
Portland OR 97230
Location:   The Andrews Room
URL:http://teamsters305.com/index.cfm?zone=/unionactive/view_calendar.cfm&calendarID=12699345&thisdate=03/20/2024&useCalSection=main
DTSTART:20240321T020000Z
DTEND:20240321T030000Z
DTSTAMP:20240303T204536
TRIGGER:-PT60M
END:VEVENT
BEGIN:VEVENT
UID:12700038@teamsters305.com
SUMMARY:Initiation Meeting 
DESCRIPTION:Contact:  \nLink for more information: http://teamsters305.com/index.cfm?zone=/unionactive/view_calendar.cfm&calendarID=12700038&thisdate=03/20/2024&useCalSection=main
LOCATION:
URL:http://teamsters305.com/index.cfm?zone=/unionactive/view_calendar.cfm&calendarID=12700038&thisdate=03/20/2024&useCalSection=main
DTSTART:20240320T163000Z
DTEND:20240320T173000Z
DTSTAMP:20240303T204536
TRIGGER:-PT60M
END:VEVENT
BEGIN:VEVENT
UID:12701556@teamsters305.com
SUMMARY:Initiation Meeting  - PM
DESCRIPTION:Contact:  \nLink for more information: http://teamsters305.com/index.cfm?zone=/unionactive/view_calendar.cfm&calendarID=12701556&thisdate=03/20/2024&useCalSection=main
LOCATION:
URL:http://teamsters305.com/index.cfm?zone=/unionactive/view_calendar.cfm&calendarID=12701556&thisdate=03/20/2024&useCalSection=main
DTSTART:20240321T013000Z
DTEND:20240321T020000Z
DTSTAMP:20240303T204536
TRIGGER:-PT60M
END:VEVENT
BEGIN:VEVENT
UID:12701557@teamsters305.com
SUMMARY:Initiation Meeting  - PM
DESCRIPTION:Contact:  \nLink for more information: http://teamsters305.com/index.cfm?zone=/unionactive/view_calendar.cfm&calendarID=12701557&thisdate=04/17/2024&useCalSection=main
LOCATION:
URL:http://teamsters305.com/index.cfm?zone=/unionactive/view_calendar.cfm&calendarID=12701557&thisdate=04/17/2024&useCalSection=main
DTSTART:20240418T013000Z
DTEND:20240418T020000Z
DTSTAMP:20240303T204536
TRIGGER:-PT60M
END:VEVENT
BEGIN:VEVENT
UID:12700039@teamsters305.com
SUMMARY:Initiation Meeting 
DESCRIPTION:Contact:  \nLink for more information: http://teamsters305.com/index.cfm?zone=/unionactive/view_calendar.cfm&calendarID=12700039&thisdate=04/17/2024&useCalSection=main
LOCATION:
URL:http://teamsters305.com/index.cfm?zone=/unionactive/view_calendar.cfm&calendarID=12700039&thisdate=04/17/2024&useCalSection=main
DTSTART:20240417T163000Z
DTEND:20240417T173000Z
DTSTAMP:20240303T204536
TRIGGER:-PT60M
END:VEVENT
BEGIN:VEVENT
UID:12699346@teamsters305.com
SUMMARY:General Membership Meeting 
DESCRIPTION:Contact:  \nLink for more information: http://teamsters305.com/index.cfm?zone=/unionactive/view_calendar.cfm&calendarID=12699346&thisdate=04/17/2024&useCalSection=main
LOCATION:Teamsters Local Union No. 305
1870 NE 162nd Avenue
Portland OR 97230
Location:   The Andrews Room
URL:http://teamsters305.com/index.cfm?zone=/unionactive/view_calendar.cfm&calendarID=12699346&thisdate=04/17/2024&useCalSection=main
DTSTART:20240418T020000Z
DTEND:20240418T030000Z
DTSTAMP:20240303T204536
TRIGGER:-PT60M
END:VEVENT
BEGIN:VEVENT
UID:12699347@teamsters305.com
SUMMARY:General Membership Meeting 
DESCRIPTION:Contact:  \nLink for more information: http://teamsters305.com/index.cfm?zone=/unionactive/view_calendar.cfm&calendarID=12699347&thisdate=05/15/2024&useCalSection=main
LOCATION:Teamsters Local Union No. 305
1870 NE 162nd Avenue
Portland OR 97230
Location:   The Andrews Room
URL:http://teamsters305.com/index.cfm?zone=/unionactive/view_calendar.cfm&calendarID=12699347&thisdate=05/15/2024&useCalSection=main
DTSTART:20240516T020000Z
DTEND:20240516T030000Z
DTSTAMP:20240303T204536
TRIGGER:-PT60M
END:VEVENT
BEGIN:VEVENT
UID:12700040@teamsters305.com
SUMMARY:Initiation Meeting 
DESCRIPTION:Contact:  \nLink for more information: http://teamsters305.com/index.cfm?zone=/unionactive/view_calendar.cfm&calendarID=12700040&thisdate=05/15/2024&useCalSection=main
LOCATION:
URL:http://teamsters305.com/index.cfm?zone=/unionactive/view_calendar.cfm&calendarID=12700040&thisdate=05/15/2024&useCalSection=main
DTSTART:20240515T163000Z
DTEND:20240515T173000Z
DTSTAMP:20240303T204536
TRIGGER:-PT60M
END:VEVENT
BEGIN:VEVENT
UID:12701558@teamsters305.com
SUMMARY:Initiation Meeting  - PM
DESCRIPTION:Contact:  \nLink for more information: http://teamsters305.com/index.cfm?zone=/unionactive/view_calendar.cfm&calendarID=12701558&thisdate=05/15/2024&useCalSection=main
LOCATION:
URL:http://teamsters305.com/index.cfm?zone=/unionactive/view_calendar.cfm&calendarID=12701558&thisdate=05/15/2024&useCalSection=main
DTSTART:20240516T013000Z
DTEND:20240516T020000Z
DTSTAMP:20240303T204536
TRIGGER:-PT60M
END:VEVENT
BEGIN:VEVENT
UID:12701559@teamsters305.com
SUMMARY:Initiation Meeting  - PM
DESCRIPTION:Contact:  \nLink for more information: http://teamsters305.com/index.cfm?zone=/unionactive/view_calendar.cfm&calendarID=12701559&thisdate=06/12/2024&useCalSection=main
LOCATION:
URL:http://teamsters305.com/index.cfm?zone=/unionactive/view_calendar.cfm&calendarID=12701559&thisdate=06/12/2024&useCalSection=main
DTSTART:20240613T013000Z
DTEND:20240613T020000Z
DTSTAMP:20240303T204536
TRIGGER:-PT60M
END:VEVENT
BEGIN:VEVENT
UID:12700041@teamsters305.com
SUMMARY:Initiation Meeting 
DESCRIPTION:Contact:  \nLink for more information: http://teamsters305.com/index.cfm?zone=/unionactive/view_calendar.cfm&calendarID=12700041&thisdate=06/12/2024&useCalSection=main
LOCATION:
URL:http://teamsters305.com/index.cfm?zone=/unionactive/view_calendar.cfm&calendarID=12700041&thisdate=06/12/2024&useCalSection=main
DTSTART:20240612T163000Z
DTEND:20240612T173000Z
DTSTAMP:20240303T204536
TRIGGER:-PT60M
END:VEVENT
BEGIN:VEVENT
UID:12699348@teamsters305.com
SUMMARY:General Membership Meeting 
DESCRIPTION:Contact:  \nLink for more information: http://teamsters305.com/index.cfm?zone=/unionactive/view_calendar.cfm&calendarID=12699348&thisdate=06/12/2024&useCalSection=main
LOCATION:Teamsters Local Union No. 305
1870 NE 162nd Avenue
Portland OR 97230
Location:   The Andrews Room
URL:http://teamsters305.com/index.cfm?zone=/unionactive/view_calendar.cfm&calendarID=12699348&thisdate=06/12/2024&useCalSection=main
DTSTART:20240613T020000Z
DTEND:20240613T030000Z
DTSTAMP:20240303T204536
TRIGGER:-PT60M
END:VEVENT
BEGIN:VEVENT
UID:12699352@teamsters305.com
SUMMARY:General Membership Meeting 
DESCRIPTION:Contact:  \nLink for more information: http://teamsters305.com/index.cfm?zone=/unionactive/view_calendar.cfm&calendarID=12699352&thisdate=10/16/2024&useCalSection=main
LOCATION:Teamsters Local Union No. 305
1870 NE 162nd Avenue
Portland OR 97230
Location:   The Andrews Room
URL:http://teamsters305.com/index.cfm?zone=/unionactive/view_calendar.cfm&calendarID=12699352&thisdate=10/16/2024&useCalSection=main
DTSTART:20241017T020000Z
DTEND:20241017T030000Z
DTSTAMP:20240303T204536
TRIGGER:-PT60M
END:VEVENT
BEGIN:VEVENT
UID:12700045@teamsters305.com
SUMMARY:Initiation Meeting 
DESCRIPTION:Contact:  \nLink for more information: http://teamsters305.com/index.cfm?zone=/unionactive/view_calendar.cfm&calendarID=12700045&thisdate=10/16/2024&useCalSection=main
LOCATION:
URL:http://teamsters305.com/index.cfm?zone=/unionactive/view_calendar.cfm&calendarID=12700045&thisdate=10/16/2024&useCalSection=main
DTSTART:20241016T163000Z
DTEND:20241016T173000Z
DTSTAMP:20240303T204536
TRIGGER:-PT60M
END:VEVENT
BEGIN:VEVENT
UID:12701563@teamsters305.com
SUMMARY:Initiation Meeting  - PM
DESCRIPTION:Contact:  \nLink for more information: http://teamsters305.com/index.cfm?zone=/unionactive/view_calendar.cfm&calendarID=12701563&thisdate=10/16/2024&useCalSection=main
LOCATION:
URL:http://teamsters305.com/index.cfm?zone=/unionactive/view_calendar.cfm&calendarID=12701563&thisdate=10/16/2024&useCalSection=main
DTSTART:20241017T013000Z
DTEND:20241017T020000Z
DTSTAMP:20240303T204536
TRIGGER:-PT60M
END:VEVENT
BEGIN:VEVENT
UID:12699353@teamsters305.com
SUMMARY:General Membership Meeting 
DESCRIPTION:Contact:  \nLink for more information: http://teamsters305.com/index.cfm?zone=/unionactive/view_calendar.cfm&calendarID=12699353&thisdate=11/20/2024&useCalSection=main
LOCATION:Teamsters Local Union No. 305
1870 NE 162nd Avenue
Portland OR 97230
Location:   The Andrews Room
URL:http://teamsters305.com/index.cfm?zone=/unionactive/view_calendar.cfm&calendarID=12699353&thisdate=11/20/2024&useCalSection=main
DTSTART:20241121T030000Z
DTEND:20241121T040000Z
DTSTAMP:20240303T204536
TRIGGER:-PT60M
END:VEVENT
END:VCALENDAR
