BEGIN:VCALENDAR
VERSION:2.0
CALSCALE:GREGORIAN
PRODID:UnionActive
BEGIN:VEVENT
UID:12701555@teamsters305.com
SUMMARY:Initiation Meeting  - PM
DESCRIPTION:Contact:  \nLink for more information: http://teamsters305.com/index.cfm?zone=/unionactive/view_calendar.cfm&calendarID=12701555&thisdate=02/21/2024&useCalSection=main
LOCATION:
URL:http://teamsters305.com/index.cfm?zone=/unionactive/view_calendar.cfm&calendarID=12701555&thisdate=02/21/2024&useCalSection=main
DTSTART:20240222T023000Z
DTEND:20240222T030000Z
DTSTAMP:20240303T205048
TRIGGER:-PT60M
END:VEVENT
END:VCALENDAR
