BEGIN:VCALENDAR
VERSION:2.0
CALSCALE:GREGORIAN
PRODID:UnionActive
BEGIN:VEVENT
UID:12700045@teamsters305.com
SUMMARY:Initiation Meeting 
DESCRIPTION:Contact:  \nLink for more information: http://teamsters305.com/index.cfm?zone=/unionactive/view_calendar.cfm&calendarID=12700045&thisdate=10/16/2024&useCalSection=main
LOCATION:
URL:http://teamsters305.com/index.cfm?zone=/unionactive/view_calendar.cfm&calendarID=12700045&thisdate=10/16/2024&useCalSection=main
DTSTART:20241016T163000Z
DTEND:20241016T173000Z
DTSTAMP:20240303T205523
TRIGGER:-PT60M
END:VEVENT
END:VCALENDAR
