BEGIN:VCALENDAR
VERSION:2.0
CALSCALE:GREGORIAN
PRODID:UnionActive
BEGIN:VEVENT
UID:12584320@teamsters305.com
SUMMARY:New Member Initiation Meeting - PM
DESCRIPTION:Contact:  \nLink for more information: http://teamsters305.com/index.cfm?zone=/unionactive/view_calendar.cfm&calendarID=12584320&thisdate=12/20/2023&useCalSection=main
LOCATION:
URL:http://teamsters305.com/index.cfm?zone=/unionactive/view_calendar.cfm&calendarID=12584320&thisdate=12/20/2023&useCalSection=main
DTSTART:20231221T013000Z
DTEND:20231221T023000Z
DTSTAMP:20240303T205716
TRIGGER:-PT60M
END:VEVENT
END:VCALENDAR
