BEGIN:VCALENDAR
VERSION:2.0
CALSCALE:GREGORIAN
PRODID:UnionActive
BEGIN:VEVENT
UID:12583589@teamsters305.com
SUMMARY:GENERAL MEMBERSHIP MEETING
DESCRIPTION:Contact:  \nLink for more information: http://teamsters305.com/index.cfm?zone=/unionactive/view_calendar.cfm&calendarID=12583589&thisdate=12/20/2023&useCalSection=main
LOCATION:TEAMSTERS LOCAL UNION NO. 305
1870 NE 162ND AVE
PORTLAND OR 97230
URL:http://teamsters305.com/index.cfm?zone=/unionactive/view_calendar.cfm&calendarID=12583589&thisdate=12/20/2023&useCalSection=main
DTSTART:20231221T030000Z
DTEND:20231221T040000Z
DTSTAMP:20240303T205533
TRIGGER:-PT60M
END:VEVENT
END:VCALENDAR
