BEGIN:VCALENDAR
VERSION:2.0
CALSCALE:GREGORIAN
PRODID:UnionActive
BEGIN:VEVENT
UID:12700037@teamsters305.com
SUMMARY:Initiation Meeting - AM
DESCRIPTION:Contact:  \nLink for more information: http://teamsters305.com/index.cfm?zone=/unionactive/view_calendar.cfm&calendarID=12700037&thisdate=02/21/2024&useCalSection=main
LOCATION:
URL:http://teamsters305.com/index.cfm?zone=/unionactive/view_calendar.cfm&calendarID=12700037&thisdate=02/21/2024&useCalSection=main
DTSTART:20240221T173000Z
DTEND:20240221T183000Z
DTSTAMP:20260419T102652
TRIGGER:-PT60M
END:VEVENT
END:VCALENDAR
