BEGIN:VCALENDAR
VERSION:2.0
CALSCALE:GREGORIAN
PRODID:UnionActive
BEGIN:VEVENT
UID:12699329@teamsters305.com
SUMMARY:General Membership Meeting 
DESCRIPTION:Contact:  \nLink for more information: http://teamsters305.com/index.cfm?zone=/unionactive/view_calendar.cfm&calendarID=12699329&thisdate=02/21/2024&useCalSection=main
LOCATION:Teamsters Local Union No. 37
1870 NE 162nd Avenue
Portland OR 97230
Location:  Andrews Room
URL:http://teamsters305.com/index.cfm?zone=/unionactive/view_calendar.cfm&calendarID=12699329&thisdate=02/21/2024&useCalSection=main
DTSTART:20240222T030000Z
DTEND:20240222T040000Z
DTSTAMP:20260419T125837
TRIGGER:-PT60M
END:VEVENT
END:VCALENDAR
