BEGIN:VCALENDAR
VERSION:2.0
CALSCALE:GREGORIAN
PRODID:UnionActive
BEGIN:VEVENT
UID:12583590@teamsters305.com
SUMMARY:CHRISTMAS HOLIDAY CLOSURE
DESCRIPTION:Contact:  \nLink for more information: http://teamsters305.com/index.cfm?zone=/unionactive/view_calendar.cfm&calendarID=12583590&thisdate=12/25/2023&useCalSection=main
LOCATION:TEAMSTERS LOCAL UNION NO. 305
1870 NE 162ND AVE 
PORTLAND OR 97230
URL:http://teamsters305.com/index.cfm?zone=/unionactive/view_calendar.cfm&calendarID=12583590&thisdate=12/25/2023&useCalSection=main
DTSTART:20231225T163000Z
DTEND:20231226T013000Z
DTSTAMP:20260419T091151
TRIGGER:-PT60M
END:VEVENT
END:VCALENDAR
